BEGIN:VCALENDAR
VERSION:2.0
PRODID:-//Prairie Social - ECPv6.15.20//NONSGML v1.0//EN
CALSCALE:GREGORIAN
METHOD:PUBLISH
X-ORIGINAL-URL:https://prairiesocial.com
X-WR-CALDESC:Events for Prairie Social
REFRESH-INTERVAL;VALUE=DURATION:PT1H
X-Robots-Tag:noindex
X-PUBLISHED-TTL:PT1H
BEGIN:VTIMEZONE
TZID:America/Chicago
BEGIN:DAYLIGHT
TZOFFSETFROM:-0600
TZOFFSETTO:-0500
TZNAME:CDT
DTSTART:20250309T080000
END:DAYLIGHT
BEGIN:STANDARD
TZOFFSETFROM:-0500
TZOFFSETTO:-0600
TZNAME:CST
DTSTART:20251102T070000
END:STANDARD
BEGIN:DAYLIGHT
TZOFFSETFROM:-0600
TZOFFSETTO:-0500
TZNAME:CDT
DTSTART:20260308T080000
END:DAYLIGHT
BEGIN:STANDARD
TZOFFSETFROM:-0500
TZOFFSETTO:-0600
TZNAME:CST
DTSTART:20261101T070000
END:STANDARD
BEGIN:DAYLIGHT
TZOFFSETFROM:-0600
TZOFFSETTO:-0500
TZNAME:CDT
DTSTART:20270314T080000
END:DAYLIGHT
BEGIN:STANDARD
TZOFFSETFROM:-0500
TZOFFSETTO:-0600
TZNAME:CST
DTSTART:20271107T070000
END:STANDARD
END:VTIMEZONE
BEGIN:VEVENT
DTSTART;TZID=America/Chicago:20260522T123000
DTEND;TZID=America/Chicago:20260522T160000
DTSTAMP:20260422T233450
CREATED:20260422T140938Z
LAST-MODIFIED:20260422T141320Z
UID:280-1779453000-1779465600@prairiesocial.com
SUMMARY:Prairie Social Pop Up @ End of School Bash x CB Boutique
DESCRIPTION:We’re popping up ✨ \nPrairie Social is bringing a mini experience to CB Boutique for their End of School Year Bash. \nOur pop ups are intentionally different than our drop-in events — they’re a curated “taste” of what we offer: creativity\, connection\, and a moment to slow down and enjoy something fun. \nStop by\, create your own keychain stack\, and experience Prairie Social in a new way 💕 \n📍 2820 Virginia Circle\, Amarillo🗓 May 22 | 12:30–4PM \nplease rsvp below
URL:https://prairiesocial.com/event/prairie-social-pop-up-end-of-school-bash-x-cb-boutique/
LOCATION:CB Boutique\, 2820 Virginia Circle\, Amarillo\, TX\, 79109\, United States
CATEGORIES:Amarillo Texas Events,Girls Events,Pop up experience
ATTACH;FMTTYPE=image/png:https://prairiesocial.com/wp-content/uploads/2026/04/Screenshot-2026-04-22-at-9.12.41-AM.png
END:VEVENT
END:VCALENDAR