BEGIN:VCALENDAR
VERSION:2.0
PRODID:-//Prairie Social - ECPv6.15.20//NONSGML v1.0//EN
CALSCALE:GREGORIAN
METHOD:PUBLISH
X-WR-CALNAME:Prairie Social
X-ORIGINAL-URL:https://prairiesocial.com
X-WR-CALDESC:Events for Prairie Social
REFRESH-INTERVAL;VALUE=DURATION:PT1H
X-Robots-Tag:noindex
X-PUBLISHED-TTL:PT1H
BEGIN:VTIMEZONE
TZID:America/Chicago
BEGIN:DAYLIGHT
TZOFFSETFROM:-0600
TZOFFSETTO:-0500
TZNAME:CDT
DTSTART:20250309T080000
END:DAYLIGHT
BEGIN:STANDARD
TZOFFSETFROM:-0500
TZOFFSETTO:-0600
TZNAME:CST
DTSTART:20251102T070000
END:STANDARD
BEGIN:DAYLIGHT
TZOFFSETFROM:-0600
TZOFFSETTO:-0500
TZNAME:CDT
DTSTART:20260308T080000
END:DAYLIGHT
BEGIN:STANDARD
TZOFFSETFROM:-0500
TZOFFSETTO:-0600
TZNAME:CST
DTSTART:20261101T070000
END:STANDARD
BEGIN:DAYLIGHT
TZOFFSETFROM:-0600
TZOFFSETTO:-0500
TZNAME:CDT
DTSTART:20270314T080000
END:DAYLIGHT
BEGIN:STANDARD
TZOFFSETFROM:-0500
TZOFFSETTO:-0600
TZNAME:CST
DTSTART:20271107T070000
END:STANDARD
END:VTIMEZONE
BEGIN:VEVENT
DTSTART;TZID=America/Chicago:20260627T103000
DTEND;TZID=America/Chicago:20260627T123000
DTSTAMP:20260422T172041
CREATED:20260422T141928Z
LAST-MODIFIED:20260422T141928Z
UID:290-1782556200-1782563400@prairiesocial.com
SUMMARY:Girls Craft & Brunch: Frosting brushes and claw clips
DESCRIPTION:✨ DROP IN: Girls Craft & Brunch ✨ \nThis isn’t just a craft… it’s a whole experience 💕 \nJoin us for a sweet morning of creativity\, connection\, and fun at Prairie Social’s Girls Craft & Brunch! \nWe’ll be designing the cutest frosting hair brushes + custom claw clips (think: fake cake\, pastel dreams\, all the charm ✨)\, while enjoying lite bites\, signature boba drinks\, and meaningful time together. \nWhether she comes with a friend or walks in solo\, she’ll leave with something beautiful—and a little more confidence too. \n🗓 Saturday\, June 27th⏰ 10:30AM–12:30PM📍 Leaf & Bubble Tea | Amarillo\, TX👧 Girls 9+ \nSeats are intentionally limited to keep it personal 💗
URL:https://prairiesocial.com/event/girls-craft-brunch-frosting-brushes-and-claw-clips/
LOCATION:Leaf & Bubble\, 4137 SW 34th Ave\, Amarillo\, TX\, 79109\, United States
CATEGORIES:Amarillo Texas Events,Craft & Connect,Drop in event,Girls Events
ATTACH;FMTTYPE=image/png:https://prairiesocial.com/wp-content/uploads/2026/01/craft-connect-teen-event.png
END:VEVENT
END:VCALENDAR